BEGIN:VCALENDAR
VERSION:2.0
PRODID:-//Site de la commune de Millonfosse - ECPv4.6.19//NONSGML v1.0//EN
CALSCALE:GREGORIAN
METHOD:PUBLISH
X-WR-CALNAME:Site de la commune de Millonfosse
X-ORIGINAL-URL:https://www.millonfosse.fr
X-WR-CALDESC:Events for Site de la commune de Millonfosse
BEGIN:VEVENT
DTSTART;TZID=Europe/Paris:20250315T183000
DTEND;TZID=Europe/Paris:20250315T183000
DTSTAMP:20260421T022011
CREATED:20250122T150927Z
LAST-MODIFIED:20250122T150927Z
UID:5130-1742063400-1742063400@www.millonfosse.fr
SUMMARY:SOIREE SAINT PATRICK 🍀
DESCRIPTION:
URL:https://www.millonfosse.fr/evenement/soiree-saint-patrick-%f0%9f%8d%80/
LOCATION:75 route d'Hasnon\, Millonfosse\, 59178\, France
END:VEVENT
END:VCALENDAR