BEGIN:VCALENDAR
VERSION:2.0
PRODID:-//Site de la commune de Millonfosse - ECPv4.6.19//NONSGML v1.0//EN
CALSCALE:GREGORIAN
METHOD:PUBLISH
X-WR-CALNAME:Site de la commune de Millonfosse
X-ORIGINAL-URL:https://www.millonfosse.fr
X-WR-CALDESC:Events for Site de la commune de Millonfosse
BEGIN:VEVENT
DTSTART;TZID=Europe/Paris:20250215T190000
DTEND;TZID=Europe/Paris:20250215T190000
DTSTAMP:20260421T095034
CREATED:20250122T145749Z
LAST-MODIFIED:20250122T145749Z
UID:5119-1739646000-1739646000@www.millonfosse.fr
SUMMARY:SOIREE COUSCOUS 🥘
DESCRIPTION:
URL:https://www.millonfosse.fr/evenement/soiree-couscous-%f0%9f%a5%98/
LOCATION:75 route d'Hasnon\, Millonfosse\, 59178\, France
END:VEVENT
END:VCALENDAR