BEGIN:VCALENDAR
VERSION:2.0
PRODID:-//Site de la commune de Millonfosse - ECPv4.6.19//NONSGML v1.0//EN
CALSCALE:GREGORIAN
METHOD:PUBLISH
X-WR-CALNAME:Site de la commune de Millonfosse
X-ORIGINAL-URL:https://www.millonfosse.fr
X-WR-CALDESC:Events for Site de la commune de Millonfosse
BEGIN:VEVENT
DTSTART;TZID=Europe/Paris:20250308T190000
DTEND;TZID=Europe/Paris:20250308T190000
DTSTAMP:20260421T052604
CREATED:20250122T150559Z
LAST-MODIFIED:20250122T150559Z
UID:5126-1741460400-1741460400@www.millonfosse.fr
SUMMARY:SOIREE ANNEE 80/2000 💃🏻
DESCRIPTION:
URL:https://www.millonfosse.fr/evenement/soiree-annee-80-2000-%f0%9f%92%83%f0%9f%8f%bb/
LOCATION:75 route d'Hasnon\, Millonfosse\, 59178\, France
END:VEVENT
END:VCALENDAR