BEGIN:VCALENDAR
VERSION:2.0
PRODID:-//Site de la commune de Millonfosse - ECPv4.6.19//NONSGML v1.0//EN
CALSCALE:GREGORIAN
METHOD:PUBLISH
X-WR-CALNAME:Site de la commune de Millonfosse
X-ORIGINAL-URL:https://www.millonfosse.fr
X-WR-CALDESC:Events for Site de la commune de Millonfosse
BEGIN:VEVENT
DTSTART;TZID=Europe/Paris:20250225T140000
DTEND;TZID=Europe/Paris:20250225T160000
DTSTAMP:20260421T064922
CREATED:20250122T150214Z
LAST-MODIFIED:20250122T150214Z
UID:5123-1740492000-1740499200@www.millonfosse.fr
SUMMARY:REUNION CLIC: PREVENTION SUR LES ARNAQUES ET ESCROQUERIES 🕵🏻
DESCRIPTION: \n
URL:https://www.millonfosse.fr/evenement/reunion-clic-prevention-sur-les-arnaques-et-escroqueries-%f0%9f%95%b5%f0%9f%8f%bb/
LOCATION:75 route d'Hasnon\, Millonfosse\, 59178\, France
END:VEVENT
END:VCALENDAR