BEGIN:VCALENDAR
VERSION:2.0
PRODID:-//Site de la commune de Millonfosse - ECPv4.6.19//NONSGML v1.0//EN
CALSCALE:GREGORIAN
METHOD:PUBLISH
X-WR-CALNAME:Site de la commune de Millonfosse
X-ORIGINAL-URL:https://www.millonfosse.fr
X-WR-CALDESC:Events for Site de la commune de Millonfosse
BEGIN:VEVENT
DTSTART;TZID=Europe/Paris:20250329T000000
DTEND;TZID=Europe/Paris:20250329T000000
DTSTAMP:20260420T233451
CREATED:20250122T151221Z
LAST-MODIFIED:20250122T151221Z
UID:5136-1743206400-1743206400@www.millonfosse.fr
SUMMARY:REPAS ORGANISEE PAR BOUGE ET DANSE 🍲💃🏻
DESCRIPTION:
URL:https://www.millonfosse.fr/evenement/repas-organisee-par-bouge-et-danse-%f0%9f%8d%b2%f0%9f%92%83%f0%9f%8f%bb/
LOCATION:75 route d'Hasnon\, Millonfosse\, 59178\, France
ORGANIZER;CN="Bouge%20%26%20Danse":MAILTO:bouge.et.danse.59178@gmail.com
END:VEVENT
END:VCALENDAR