BEGIN:VCALENDAR
VERSION:2.0
PRODID:-//Site de la commune de Millonfosse - ECPv4.6.19//NONSGML v1.0//EN
CALSCALE:GREGORIAN
METHOD:PUBLISH
X-WR-CALNAME:Site de la commune de Millonfosse
X-ORIGINAL-URL:https://www.millonfosse.fr
X-WR-CALDESC:Events for Site de la commune de Millonfosse
BEGIN:VEVENT
DTSTART;TZID=Europe/Paris:20251012T080000
DTEND;TZID=Europe/Paris:20251012T170000
DTSTAMP:20260420T191034
CREATED:20251015T131722Z
LAST-MODIFIED:20251015T131722Z
UID:5415-1760256000-1760288400@www.millonfosse.fr
SUMMARY:REPAS DES AINES🕺
DESCRIPTION:
URL:https://www.millonfosse.fr/evenement/repas-des-aines%f0%9f%95%ba/
LOCATION:75 route d'Hasnon\, Millonfosse\, 59178\, France
END:VEVENT
END:VCALENDAR