BEGIN:VCALENDAR
VERSION:2.0
PRODID:-//Site de la commune de Millonfosse - ECPv4.6.19//NONSGML v1.0//EN
CALSCALE:GREGORIAN
METHOD:PUBLISH
X-WR-CALNAME:Site de la commune de Millonfosse
X-ORIGINAL-URL:https://www.millonfosse.fr
X-WR-CALDESC:Events for Site de la commune de Millonfosse
BEGIN:VEVENT
DTSTART;TZID=Europe/Paris:20220911T120000
DTEND;TZID=Europe/Paris:20220911T120000
DTSTAMP:20260420T102836
CREATED:20220901T123441Z
LAST-MODIFIED:20220901T134041Z
UID:4001-1662897600-1662897600@www.millonfosse.fr
SUMMARY:REPAS CAMPAGNARD 🥓
DESCRIPTION:
URL:https://www.millonfosse.fr/evenement/repas-campagnard/
LOCATION:Millonfosse\, 59178\, France
END:VEVENT
END:VCALENDAR