BEGIN:VCALENDAR
VERSION:2.0
PRODID:-//Site de la commune de Millonfosse - ECPv4.6.19//NONSGML v1.0//EN
CALSCALE:GREGORIAN
METHOD:PUBLISH
X-WR-CALNAME:Site de la commune de Millonfosse
X-ORIGINAL-URL:https://www.millonfosse.fr
X-WR-CALDESC:Events for Site de la commune de Millonfosse
BEGIN:VEVENT
DTSTART;TZID=Europe/Paris:20250315T090000
DTEND;TZID=Europe/Paris:20250315T120000
DTSTAMP:20260421T035431
CREATED:20250122T150740Z
LAST-MODIFIED:20250122T151111Z
UID:5128-1742029200-1742040000@www.millonfosse.fr
SUMMARY:RAMASSAGE DES DECHETS 🚮
DESCRIPTION: \n
URL:https://www.millonfosse.fr/evenement/ramassage-des-dechets-%f0%9f%9a%ae/
LOCATION:MILLONFOSSE\, 59178\, France
END:VEVENT
END:VCALENDAR