BEGIN:VCALENDAR
VERSION:2.0
PRODID:-//Site de la commune de Millonfosse - ECPv4.6.19//NONSGML v1.0//EN
CALSCALE:GREGORIAN
METHOD:PUBLISH
X-WR-CALNAME:Site de la commune de Millonfosse
X-ORIGINAL-URL:https://www.millonfosse.fr
X-WR-CALDESC:Events for Site de la commune de Millonfosse
BEGIN:VEVENT
DTSTART;TZID=Europe/Paris:20250223T000000
DTEND;TZID=Europe/Paris:20250223T000000
DTSTAMP:20260421T081005
CREATED:20250122T145906Z
LAST-MODIFIED:20250122T145906Z
UID:5121-1740268800-1740268800@www.millonfosse.fr
SUMMARY:QUESTION POUR UN CHAMPION ❓
DESCRIPTION:
URL:https://www.millonfosse.fr/evenement/question-pour-un-champion-%e2%9d%93/
LOCATION:75 route d'Hasnon\, Millonfosse\, 59178\, France
END:VEVENT
END:VCALENDAR