BEGIN:VCALENDAR
VERSION:2.0
PRODID:-//Site de la commune de Millonfosse - ECPv4.6.19//NONSGML v1.0//EN
CALSCALE:GREGORIAN
METHOD:PUBLISH
X-WR-CALNAME:Site de la commune de Millonfosse
X-ORIGINAL-URL:https://www.millonfosse.fr
X-WR-CALDESC:Events for Site de la commune de Millonfosse
BEGIN:VEVENT
DTSTART;TZID=Europe/Paris:20240407T100000
DTEND;TZID=Europe/Paris:20240407T150000
DTSTAMP:20260422T035935
CREATED:20240311T155451Z
LAST-MODIFIED:20240311T155451Z
UID:4594-1712484000-1712502000@www.millonfosse.fr
SUMMARY:Passage du Paris Roubaix Junior
DESCRIPTION:
URL:https://www.millonfosse.fr/evenement/passage-du-paris-roubaix-junior/
END:VEVENT
END:VCALENDAR