BEGIN:VCALENDAR
VERSION:2.0
PRODID:-//Site de la commune de Millonfosse - ECPv4.6.19//NONSGML v1.0//EN
CALSCALE:GREGORIAN
METHOD:PUBLISH
X-WR-CALNAME:Site de la commune de Millonfosse
X-ORIGINAL-URL:https://www.millonfosse.fr
X-WR-CALDESC:Events for Site de la commune de Millonfosse
BEGIN:VEVENT
DTSTART;TZID=Europe/Paris:20231202T180000
DTEND;TZID=Europe/Paris:20231202T180000
DTSTAMP:20260422T120437
CREATED:20231110T144339Z
LAST-MODIFIED:20231110T144339Z
UID:4534-1701540000-1701540000@www.millonfosse.fr
SUMMARY:Les Festivités de Noël à Millonfosse
DESCRIPTION: \n
URL:https://www.millonfosse.fr/evenement/les-festivites-de-noel-a-millonfosse/
LOCATION:Millonfosse\, 59178\, France
END:VEVENT
END:VCALENDAR