BEGIN:VCALENDAR
VERSION:2.0
PRODID:-//Site de la commune de Millonfosse - ECPv4.6.19//NONSGML v1.0//EN
CALSCALE:GREGORIAN
METHOD:PUBLISH
X-WR-CALNAME:Site de la commune de Millonfosse
X-ORIGINAL-URL:https://www.millonfosse.fr
X-WR-CALDESC:Events for Site de la commune de Millonfosse
BEGIN:VEVENT
DTSTART;TZID=Europe/Paris:20250324T150000
DTEND;TZID=Europe/Paris:20250324T190000
DTSTAMP:20260421T010352
CREATED:20250122T151035Z
LAST-MODIFIED:20250122T151035Z
UID:5132-1742828400-1742842800@www.millonfosse.fr
SUMMARY:DON DU SANG 🩸
DESCRIPTION: \n
URL:https://www.millonfosse.fr/evenement/don-du-sang-%f0%9f%a9%b8/
LOCATION:75 route d'Hasnon\, Millonfosse\, 59178\, France
END:VEVENT
END:VCALENDAR