BEGIN:VCALENDAR
VERSION:2.0
PRODID:-//Site de la commune de Millonfosse - ECPv4.6.19//NONSGML v1.0//EN
CALSCALE:GREGORIAN
METHOD:PUBLISH
X-WR-CALNAME:Site de la commune de Millonfosse
X-ORIGINAL-URL:https://www.millonfosse.fr
X-WR-CALDESC:Events for Site de la commune de Millonfosse
BEGIN:VEVENT
DTSTART;TZID=Europe/Paris:20230508T110000
DTEND;TZID=Europe/Paris:20230508T110000
DTSTAMP:20260424T000259
CREATED:20230210T095710Z
LAST-MODIFIED:20230210T095710Z
UID:4408-1683543600-1683543600@www.millonfosse.fr
SUMMARY:Dépôt de gerbe
DESCRIPTION:
URL:https://www.millonfosse.fr/evenement/depot-de-gerbe-2/
END:VEVENT
END:VCALENDAR