BEGIN:VCALENDAR
VERSION:2.0
PRODID:-//Site de la commune de Millonfosse - ECPv4.6.19//NONSGML v1.0//EN
CALSCALE:GREGORIAN
METHOD:PUBLISH
X-WR-CALNAME:Site de la commune de Millonfosse
X-ORIGINAL-URL:https://www.millonfosse.fr
X-WR-CALDESC:Events for Site de la commune de Millonfosse
BEGIN:VEVENT
DTSTART;TZID=Europe/Paris:20251111T090000
DTEND;TZID=Europe/Paris:20251111T103000
DTSTAMP:20260420T163656
CREATED:20251015T131116Z
LAST-MODIFIED:20251015T131116Z
UID:5408-1762851600-1762857000@www.millonfosse.fr
SUMMARY:DEFILE COMMEMORATIF
DESCRIPTION:
URL:https://www.millonfosse.fr/evenement/defile-commemoratif-2/
END:VEVENT
END:VCALENDAR