BEGIN:VCALENDAR
VERSION:2.0
PRODID:-//Site de la commune de Millonfosse - ECPv4.6.19//NONSGML v1.0//EN
CALSCALE:GREGORIAN
METHOD:PUBLISH
X-WR-CALNAME:Site de la commune de Millonfosse
X-ORIGINAL-URL:https://www.millonfosse.fr
X-WR-CALDESC:Events for Site de la commune de Millonfosse
BEGIN:VEVENT
DTSTART;TZID=Europe/Paris:20231202T170000
DTEND;TZID=Europe/Paris:20231202T180000
DTSTAMP:20260422T131859
CREATED:20231110T144121Z
LAST-MODIFIED:20231110T144121Z
UID:4531-1701536400-1701540000@www.millonfosse.fr
SUMMARY:Conte Musical "Le Chat Botté"
DESCRIPTION: \n
URL:https://www.millonfosse.fr/evenement/conte-musical-le-chat-botte/
LOCATION:75 route d'Hasnon\, Millonfosse\, 59178\, France
END:VEVENT
END:VCALENDAR