BEGIN:VCALENDAR
VERSION:2.0
PRODID:-//Site de la commune de Millonfosse - ECPv4.6.19//NONSGML v1.0//EN
CALSCALE:GREGORIAN
METHOD:PUBLISH
X-WR-CALNAME:Site de la commune de Millonfosse
X-ORIGINAL-URL:https://www.millonfosse.fr
X-WR-CALDESC:Events for Site de la commune de Millonfosse
BEGIN:VEVENT
DTSTART;TZID=Europe/Paris:20240401T100000
DTEND;TZID=Europe/Paris:20240401T120000
DTSTAMP:20260422T051639
CREATED:20240311T145153Z
LAST-MODIFIED:20240311T145433Z
UID:4588-1711965600-1711972800@www.millonfosse.fr
SUMMARY:Chasse à l'œuf
DESCRIPTION: \n
URL:https://www.millonfosse.fr/evenement/chasse-a-loeuf-2/
LOCATION:Millonfosse\, 59178\, France
END:VEVENT
END:VCALENDAR