BEGIN:VCALENDAR
VERSION:2.0
PRODID:-//Site de la commune de Millonfosse - ECPv4.6.19//NONSGML v1.0//EN
CALSCALE:GREGORIAN
METHOD:PUBLISH
X-WR-CALNAME:Site de la commune de Millonfosse
X-ORIGINAL-URL:https://www.millonfosse.fr
X-WR-CALDESC:Events for Site de la commune de Millonfosse
BEGIN:VEVENT
DTSTART;TZID=Europe/Paris:20250421T000000
DTEND;TZID=Europe/Paris:20250421T000000
DTSTAMP:20260420T205109
CREATED:20250122T151808Z
LAST-MODIFIED:20250122T151808Z
UID:5140-1745193600-1745193600@www.millonfosse.fr
SUMMARY:CHASSE A L'OEUF 🐰
DESCRIPTION:
URL:https://www.millonfosse.fr/evenement/chasse-a-loeuf-%f0%9f%90%b0/
LOCATION:Millonfosse\, 59178\, France
END:VEVENT
END:VCALENDAR