BEGIN:VCALENDAR
VERSION:2.0
PRODID:-//Site de la commune de Millonfosse - ECPv4.6.19//NONSGML v1.0//EN
CALSCALE:GREGORIAN
METHOD:PUBLISH
X-WR-CALNAME:Site de la commune de Millonfosse
X-ORIGINAL-URL:https://www.millonfosse.fr
X-WR-CALDESC:Events for Site de la commune de Millonfosse
BEGIN:VEVENT
DTSTART;TZID=Europe/Paris:20231206T000000
DTEND;TZID=Europe/Paris:20231206T000000
DTSTAMP:20260422T103723
CREATED:20231110T144442Z
LAST-MODIFIED:20231110T144609Z
UID:4537-1701820800-1701820800@www.millonfosse.fr
SUMMARY:Après Midi Jeux de Société
DESCRIPTION: \n
URL:https://www.millonfosse.fr/evenement/apres-midi-jeux-de-societe-3/
END:VEVENT
END:VCALENDAR