BEGIN:VCALENDAR
VERSION:2.0
PRODID:-//Site de la commune de Millonfosse - ECPv4.6.19//NONSGML v1.0//EN
CALSCALE:GREGORIAN
METHOD:PUBLISH
X-WR-CALNAME:Site de la commune de Millonfosse
X-ORIGINAL-URL:https://www.millonfosse.fr
X-WR-CALDESC:Events for Site de la commune de Millonfosse
BEGIN:VEVENT
DTSTART;TZID=Europe/Paris:20251122T083000
DTEND;TZID=Europe/Paris:20251122T200000
DTSTAMP:20260420T163801
CREATED:20251015T131458Z
LAST-MODIFIED:20251015T131458Z
UID:5412-1763800200-1763841600@www.millonfosse.fr
SUMMARY:☃️VOYAGE AU MARCHE DE NOËL DE BRUGES ❄️
DESCRIPTION: \n
URL:https://www.millonfosse.fr/evenement/%e2%98%83%ef%b8%8fvoyage-au-marche-de-noel-de-bruges-%e2%9d%84%ef%b8%8f/
END:VEVENT
END:VCALENDAR