BEGIN:VCALENDAR
VERSION:2.0
PRODID:-//Site de la commune de Millonfosse - ECPv4.6.19//NONSGML v1.0//EN
CALSCALE:GREGORIAN
METHOD:PUBLISH
X-WR-CALNAME:Site de la commune de Millonfosse
X-ORIGINAL-URL:https://www.millonfosse.fr
X-WR-CALDESC:Events for Site de la commune de Millonfosse
BEGIN:VEVENT
DTSTART;VALUE=DATE:20260315
DTEND;VALUE=DATE:20260316
DTSTAMP:20260420T101435
CREATED:20260128T134318Z
LAST-MODIFIED:20260128T134318Z
UID:5593-1773532800-1773619199@www.millonfosse.fr
SUMMARY:Elections Municipales 🗳️
DESCRIPTION:
URL:https://www.millonfosse.fr/evenement/elections-municipales-%f0%9f%97%b3%ef%b8%8f/
LOCATION:75 route d'Hasnon\, Millonfosse\, 59178\, France
END:VEVENT
END:VCALENDAR