BEGIN:VCALENDAR
VERSION:2.0
PRODID:-//Site de la commune de Millonfosse - ECPv4.6.19//NONSGML v1.0//EN
CALSCALE:GREGORIAN
METHOD:PUBLISH
X-WR-CALNAME:Site de la commune de Millonfosse
X-ORIGINAL-URL:https://www.millonfosse.fr
X-WR-CALDESC:Events for Site de la commune de Millonfosse
BEGIN:VEVENT
DTSTART;TZID=Europe/Paris:20260215T100000
DTEND;TZID=Europe/Paris:20260215T160000
DTSTAMP:20260422T102013
CREATED:20260128T133316Z
LAST-MODIFIED:20260128T133316Z
UID:5585-1771149600-1771171200@www.millonfosse.fr
SUMMARY:Bourse aux costumes - Bouge & Danse 💃
DESCRIPTION: \n
URL:https://www.millonfosse.fr/evenement/bourse-aux-costumes-bouge-danse-%f0%9f%92%83/
LOCATION:75 route d'Hasnon\, Millonfosse\, 59178\, France
ORGANIZER;CN="Bouge%20%26%20Danse":MAILTO:bouge.et.danse.59178@gmail.com
END:VEVENT
END:VCALENDAR