BEGIN:VCALENDAR
VERSION:2.0
PRODID:-//Site de la commune de Millonfosse - ECPv4.6.19//NONSGML v1.0//EN
CALSCALE:GREGORIAN
METHOD:PUBLISH
X-WR-CALNAME:Site de la commune de Millonfosse
X-ORIGINAL-URL:https://www.millonfosse.fr
X-WR-CALDESC:Events for Site de la commune de Millonfosse
BEGIN:VEVENT
DTSTART;TZID=Europe/Paris:20260110T173000
DTEND;TZID=Europe/Paris:20260110T190000
DTSTAMP:20260422T085954
CREATED:20260128T132713Z
LAST-MODIFIED:20260128T132713Z
UID:5583-1768066200-1768071600@www.millonfosse.fr
SUMMARY:Vœux de la commune
DESCRIPTION:
URL:https://www.millonfosse.fr/evenement/voeux-de-la-commune-2/
LOCATION:75 route d'Hasnon\, Millonfosse\, 59178\, France
END:VEVENT
END:VCALENDAR