BEGIN:VCALENDAR
VERSION:2.0
PRODID:-//Site de la commune de Millonfosse - ECPv4.6.19//NONSGML v1.0//EN
CALSCALE:GREGORIAN
METHOD:PUBLISH
X-WR-CALNAME:Site de la commune de Millonfosse
X-ORIGINAL-URL:https://www.millonfosse.fr
X-WR-CALDESC:Events for Site de la commune de Millonfosse
BEGIN:VEVENT
DTSTART;TZID=Europe/Paris:20251203T160000
DTEND;TZID=Europe/Paris:20251203T180000
DTSTAMP:20260420T150901
CREATED:20251015T130636Z
LAST-MODIFIED:20251015T130636Z
UID:5404-1764777600-1764784800@www.millonfosse.fr
SUMMARY:ATELIER NUMERIQUE : MonEspaceSanté💻
DESCRIPTION: \n
URL:https://www.millonfosse.fr/evenement/atelier-numerique-monespacesante%f0%9f%92%bb/
LOCATION:75 route d'Hasnon\, Millonfosse\, 59178\, France
END:VEVENT
END:VCALENDAR