BEGIN:VCALENDAR
VERSION:2.0
PRODID:-//Site de la commune de Millonfosse - ECPv4.6.19//NONSGML v1.0//EN
CALSCALE:GREGORIAN
METHOD:PUBLISH
X-WR-CALNAME:Site de la commune de Millonfosse
X-ORIGINAL-URL:https://www.millonfosse.fr
X-WR-CALDESC:Events for Site de la commune de Millonfosse
BEGIN:VEVENT
DTSTART;TZID=Europe/Paris:20241217T000000
DTEND;TZID=Europe/Paris:20241217T000000
DTSTAMP:20260422T223041
CREATED:20241016T134228Z
LAST-MODIFIED:20241016T134228Z
UID:5013-1734393600-1734393600@www.millonfosse.fr
SUMMARY:🎄FETE DE NOEL DE L'ECOLE 🎅
DESCRIPTION:
URL:https://www.millonfosse.fr/evenement/%f0%9f%8e%84fete-de-noel-de-lecole-%f0%9f%8e%85/
LOCATION:75 route d'Hasnon\, Millonfosse\, 59178\, France
END:VEVENT
END:VCALENDAR