BEGIN:VCALENDAR
VERSION:2.0
PRODID:-//Site de la commune de Millonfosse - ECPv4.6.19//NONSGML v1.0//EN
CALSCALE:GREGORIAN
METHOD:PUBLISH
X-WR-CALNAME:Site de la commune de Millonfosse
X-ORIGINAL-URL:https://www.millonfosse.fr
X-WR-CALDESC:Events for Site de la commune de Millonfosse
BEGIN:VEVENT
DTSTART;TZID=Europe/Paris:20240323T190000
DTEND;TZID=Europe/Paris:20240323T230000
DTSTAMP:20260423T105954
CREATED:20240311T144802Z
LAST-MODIFIED:20240311T144802Z
UID:4585-1711220400-1711234800@www.millonfosse.fr
SUMMARY:Soirée St Patrick
DESCRIPTION: \n
URL:https://www.millonfosse.fr/evenement/soiree-st-patrick-2/
LOCATION:75 route d'Hasnon\, Millonfosse\, 59178\, France
END:VEVENT
END:VCALENDAR