BEGIN:VCALENDAR
VERSION:2.0
PRODID:-//Site de la commune de Millonfosse - ECPv4.6.19//NONSGML v1.0//EN
CALSCALE:GREGORIAN
METHOD:PUBLISH
X-WR-CALNAME:Site de la commune de Millonfosse
X-ORIGINAL-URL:https://www.millonfosse.fr
X-WR-CALDESC:Events for Site de la commune de Millonfosse
BEGIN:VEVENT
DTSTART;TZID=Europe/Paris:20230825T000000
DTEND;TZID=Europe/Paris:20230827T000000
DTSTAMP:20260423T202231
CREATED:20230804T142247Z
LAST-MODIFIED:20230804T142321Z
UID:4513-1692921600-1693094400@www.millonfosse.fr
SUMMARY:🎠DUCASSE 🎠
DESCRIPTION: \n
URL:https://www.millonfosse.fr/evenement/%f0%9f%8e%a1ducasse-%f0%9f%8e%a1/
LOCATION:MILLONFOSSE\, 59178\, France
END:VEVENT
END:VCALENDAR