BEGIN:VCALENDAR
VERSION:2.0
PRODID:-//Site de la commune de Millonfosse - ECPv4.6.19//NONSGML v1.0//EN
CALSCALE:GREGORIAN
METHOD:PUBLISH
X-WR-CALNAME:Site de la commune de Millonfosse
X-ORIGINAL-URL:https://www.millonfosse.fr
X-WR-CALDESC:Events for Site de la commune de Millonfosse
BEGIN:VEVENT
DTSTART;TZID=Europe/Paris:20230610T000000
DTEND;TZID=Europe/Paris:20230610T000000
DTSTAMP:20260423T225022
CREATED:20230210T100003Z
LAST-MODIFIED:20230210T100003Z
UID:4414-1686355200-1686355200@www.millonfosse.fr
SUMMARY:Fête de l'école
DESCRIPTION:
URL:https://www.millonfosse.fr/evenement/fete-de-lecole/
END:VEVENT
END:VCALENDAR