BEGIN:VCALENDAR
VERSION:2.0
PRODID:-//Site de la commune de Millonfosse - ECPv4.6.19//NONSGML v1.0//EN
CALSCALE:GREGORIAN
METHOD:PUBLISH
X-WR-CALNAME:Site de la commune de Millonfosse
X-ORIGINAL-URL:https://www.millonfosse.fr
X-WR-CALDESC:Events for Site de la commune de Millonfosse
BEGIN:VEVENT
DTSTART;TZID=Europe/Paris:20230501T110000
DTEND;TZID=Europe/Paris:20230501T110000
DTSTAMP:20260423T235815
CREATED:20230210T095609Z
LAST-MODIFIED:20230210T095609Z
UID:4406-1682938800-1682938800@www.millonfosse.fr
SUMMARY:Remise des Médailles du Travail
DESCRIPTION:
URL:https://www.millonfosse.fr/evenement/remise-des-medailles-du-travail/
LOCATION:75 route d'Hasnon\, Millonfosse\, 59178\, France
END:VEVENT
END:VCALENDAR