BEGIN:VCALENDAR
VERSION:2.0
PRODID:-//Site de la commune de Millonfosse - ECPv4.6.19//NONSGML v1.0//EN
CALSCALE:GREGORIAN
METHOD:PUBLISH
X-WR-CALNAME:Site de la commune de Millonfosse
X-ORIGINAL-URL:https://www.millonfosse.fr
X-WR-CALDESC:Events for Site de la commune de Millonfosse
BEGIN:VEVENT
DTSTART;TZID=Europe/Paris:20230409T000000
DTEND;TZID=Europe/Paris:20230409T000000
DTSTAMP:20260424T021226
CREATED:20230210T095237Z
LAST-MODIFIED:20230210T095237Z
UID:4400-1680998400-1680998400@www.millonfosse.fr
SUMMARY:Passage du Paris - Roubaix Juniors
DESCRIPTION:
URL:https://www.millonfosse.fr/evenement/passage-du-paris-roubaix-juniors/
END:VEVENT
END:VCALENDAR