BEGIN:VCALENDAR
VERSION:2.0
PRODID:-//Site de la commune de Millonfosse - ECPv4.6.19//NONSGML v1.0//EN
CALSCALE:GREGORIAN
METHOD:PUBLISH
X-WR-CALNAME:Site de la commune de Millonfosse
X-ORIGINAL-URL:https://www.millonfosse.fr
X-WR-CALDESC:Events for Site de la commune de Millonfosse
BEGIN:VEVENT
DTSTART;TZID=Europe/Paris:20230211T190000
DTEND;TZID=Europe/Paris:20230211T220000
DTSTAMP:20260424T032857
CREATED:20230210T094304Z
LAST-MODIFIED:20230210T094304Z
UID:4388-1676142000-1676152800@www.millonfosse.fr
SUMMARY:Soirée Couscous
DESCRIPTION:
URL:https://www.millonfosse.fr/evenement/soiree-couscous/
LOCATION:75 route d'Hasnon\, Millonfosse\, 59178\, France
END:VEVENT
END:VCALENDAR