BEGIN:VCALENDAR
VERSION:2.0
PRODID:-//Site de la commune de Millonfosse - ECPv4.6.19//NONSGML v1.0//EN
CALSCALE:GREGORIAN
METHOD:PUBLISH
X-WR-CALNAME:Site de la commune de Millonfosse
X-ORIGINAL-URL:https://www.millonfosse.fr
X-WR-CALDESC:Events for Site de la commune de Millonfosse
BEGIN:VEVENT
DTSTART;TZID=Europe/Paris:20221213T150000
DTEND;TZID=Europe/Paris:20221213T163000
DTSTAMP:20260425T122927
CREATED:20221205T092547Z
LAST-MODIFIED:20221205T092547Z
UID:4340-1670943600-1670949000@www.millonfosse.fr
SUMMARY:Distribution des colis aux enfants de l'école🎁
DESCRIPTION:
URL:https://www.millonfosse.fr/evenement/distribution-des-colis-aux-enfants-de-lecole%f0%9f%8e%81/
END:VEVENT
END:VCALENDAR